BEGIN:VCALENDAR
VERSION:2.0
PRODID:-// - ECPv6.15.20//NONSGML v1.0//EN
CALSCALE:GREGORIAN
METHOD:PUBLISH
X-ORIGINAL-URL:https://mirow-erleben.de
X-WR-CALDESC:Veranstaltungen für 
REFRESH-INTERVAL;VALUE=DURATION:PT1H
X-Robots-Tag:noindex
X-PUBLISHED-TTL:PT1H
BEGIN:VTIMEZONE
TZID:Europe/Berlin
BEGIN:DAYLIGHT
TZOFFSETFROM:+0100
TZOFFSETTO:+0200
TZNAME:CEST
DTSTART:20260329T010000
END:DAYLIGHT
BEGIN:STANDARD
TZOFFSETFROM:+0200
TZOFFSETTO:+0100
TZNAME:CET
DTSTART:20261025T010000
END:STANDARD
BEGIN:DAYLIGHT
TZOFFSETFROM:+0100
TZOFFSETTO:+0200
TZNAME:CEST
DTSTART:20270328T010000
END:DAYLIGHT
BEGIN:STANDARD
TZOFFSETFROM:+0200
TZOFFSETTO:+0100
TZNAME:CET
DTSTART:20271031T010000
END:STANDARD
BEGIN:DAYLIGHT
TZOFFSETFROM:+0100
TZOFFSETTO:+0200
TZNAME:CEST
DTSTART:20280326T010000
END:DAYLIGHT
BEGIN:STANDARD
TZOFFSETFROM:+0200
TZOFFSETTO:+0100
TZNAME:CET
DTSTART:20281029T010000
END:STANDARD
END:VTIMEZONE
BEGIN:VEVENT
DTSTART;TZID=Europe/Berlin:20271201T173000
DTEND;TZID=Europe/Berlin:20271201T190000
DTSTAMP:20260422T134920
CREATED:20260209T100843Z
LAST-MODIFIED:20260209T100941Z
UID:10000890-1827682200-1827687600@mirow-erleben.de
SUMMARY:Yoga in der Hebammenpraxis Wesenberg
DESCRIPTION:Anmeldung via Telefon oder WhatsApp (017670317482)\, immer ein 10-Wochen-Kurs für 150€ buchbar.\nFolgende Yogastile werden angeboten:\nYin Yoga\, Hormonyoga\, Yoga während und nach der Schwangerschaft\, Hathayoga
URL:https://mirow-erleben.de/event/yoga-in-der-hebammenpraxis-wesenberg-2/2027-12-01/
LOCATION:Hebammenpraxis Lustig\, Am Markt 13\, Wesenberg\, Mecklenburg Vorpommern\, 17255\, Germany
CATEGORIES:Yoga
ATTACH;FMTTYPE=image/jpeg:https://mirow-erleben.de/wp-content/uploads/2026/02/IMG_7262-e1770628946645.jpeg
ORGANIZER;CN="Magnoliiayoga - Juliane Lehmann":MAILTO:juliane_lehmann@icloud.com
END:VEVENT
BEGIN:VEVENT
DTSTART;TZID=Europe/Berlin:20271202T100000
DTEND;TZID=Europe/Berlin:20271202T113000
DTSTAMP:20260422T134920
CREATED:20260209T102130Z
LAST-MODIFIED:20260209T102130Z
UID:10001712-1827741600-1827747000@mirow-erleben.de
SUMMARY:Yoga in der Hebammenpraxis Wesenberg
DESCRIPTION:Anmeldung via Telefon oder WhatsApp (017670317482)\, immer ein 10-Wochen-Kurs für 150€ buchbar.\nFolgende Yogastile werden angeboten:\nYin Yoga\, Hormonyoga\, Yoga während und nach der Schwangerschaft\, Hathayoga
URL:https://mirow-erleben.de/event/yoga-in-der-hebammenpraxis-wesenberg-4/2027-12-02/
LOCATION:Hebammenpraxis Lustig\, Am Markt 13\, Wesenberg\, Mecklenburg Vorpommern\, 17255\, Germany
CATEGORIES:Yoga
ATTACH;FMTTYPE=image/jpeg:https://mirow-erleben.de/wp-content/uploads/2026/02/IMG_7262-e1770628946645.jpeg
ORGANIZER;CN="Magnoliiayoga - Juliane Lehmann":MAILTO:juliane_lehmann@icloud.com
END:VEVENT
BEGIN:VEVENT
DTSTART;TZID=Europe/Berlin:20271207T193000
DTEND;TZID=Europe/Berlin:20271207T210000
DTSTAMP:20260422T134920
CREATED:20260209T100418Z
LAST-MODIFIED:20260209T101206Z
UID:10000373-1828207800-1828213200@mirow-erleben.de
SUMMARY:Yoga in der Hebammenpraxis Wesenberg
DESCRIPTION:Anmeldung via Telefon oder WhatsApp (017670317482)\, immer ein 10-Wochen-Kurs für 150€ buchbar.\nFolgende Yogastile werden angeboten:\nYin Yoga\, Hormonyoga\, Yoga während und nach der Schwangerschaft\, Hathayoga
URL:https://mirow-erleben.de/event/yoga-in-der-hebammenpraxis-wesenberg/2027-12-07/
LOCATION:Hebammenpraxis Lustig\, Am Markt 13\, Wesenberg\, Mecklenburg Vorpommern\, 17255\, Germany
CATEGORIES:Yoga
ATTACH;FMTTYPE=image/jpeg:https://mirow-erleben.de/wp-content/uploads/2026/02/IMG_7262-e1770628946645.jpeg
ORGANIZER;CN="Magnoliiayoga - Juliane Lehmann":MAILTO:juliane_lehmann@icloud.com
END:VEVENT
BEGIN:VEVENT
DTSTART;TZID=Europe/Berlin:20271208T173000
DTEND;TZID=Europe/Berlin:20271208T190000
DTSTAMP:20260422T134920
CREATED:20260209T100843Z
LAST-MODIFIED:20260209T100941Z
UID:10000891-1828287000-1828292400@mirow-erleben.de
SUMMARY:Yoga in der Hebammenpraxis Wesenberg
DESCRIPTION:Anmeldung via Telefon oder WhatsApp (017670317482)\, immer ein 10-Wochen-Kurs für 150€ buchbar.\nFolgende Yogastile werden angeboten:\nYin Yoga\, Hormonyoga\, Yoga während und nach der Schwangerschaft\, Hathayoga
URL:https://mirow-erleben.de/event/yoga-in-der-hebammenpraxis-wesenberg-2/2027-12-08/
LOCATION:Hebammenpraxis Lustig\, Am Markt 13\, Wesenberg\, Mecklenburg Vorpommern\, 17255\, Germany
CATEGORIES:Yoga
ATTACH;FMTTYPE=image/jpeg:https://mirow-erleben.de/wp-content/uploads/2026/02/IMG_7262-e1770628946645.jpeg
ORGANIZER;CN="Magnoliiayoga - Juliane Lehmann":MAILTO:juliane_lehmann@icloud.com
END:VEVENT
BEGIN:VEVENT
DTSTART;TZID=Europe/Berlin:20271209T100000
DTEND;TZID=Europe/Berlin:20271209T113000
DTSTAMP:20260422T134920
CREATED:20260209T102130Z
LAST-MODIFIED:20260209T102130Z
UID:10001713-1828346400-1828351800@mirow-erleben.de
SUMMARY:Yoga in der Hebammenpraxis Wesenberg
DESCRIPTION:Anmeldung via Telefon oder WhatsApp (017670317482)\, immer ein 10-Wochen-Kurs für 150€ buchbar.\nFolgende Yogastile werden angeboten:\nYin Yoga\, Hormonyoga\, Yoga während und nach der Schwangerschaft\, Hathayoga
URL:https://mirow-erleben.de/event/yoga-in-der-hebammenpraxis-wesenberg-4/2027-12-09/
LOCATION:Hebammenpraxis Lustig\, Am Markt 13\, Wesenberg\, Mecklenburg Vorpommern\, 17255\, Germany
CATEGORIES:Yoga
ATTACH;FMTTYPE=image/jpeg:https://mirow-erleben.de/wp-content/uploads/2026/02/IMG_7262-e1770628946645.jpeg
ORGANIZER;CN="Magnoliiayoga - Juliane Lehmann":MAILTO:juliane_lehmann@icloud.com
END:VEVENT
BEGIN:VEVENT
DTSTART;TZID=Europe/Berlin:20271214T193000
DTEND;TZID=Europe/Berlin:20271214T210000
DTSTAMP:20260422T134920
CREATED:20260209T100418Z
LAST-MODIFIED:20260209T101206Z
UID:10000374-1828812600-1828818000@mirow-erleben.de
SUMMARY:Yoga in der Hebammenpraxis Wesenberg
DESCRIPTION:Anmeldung via Telefon oder WhatsApp (017670317482)\, immer ein 10-Wochen-Kurs für 150€ buchbar.\nFolgende Yogastile werden angeboten:\nYin Yoga\, Hormonyoga\, Yoga während und nach der Schwangerschaft\, Hathayoga
URL:https://mirow-erleben.de/event/yoga-in-der-hebammenpraxis-wesenberg/2027-12-14/
LOCATION:Hebammenpraxis Lustig\, Am Markt 13\, Wesenberg\, Mecklenburg Vorpommern\, 17255\, Germany
CATEGORIES:Yoga
ATTACH;FMTTYPE=image/jpeg:https://mirow-erleben.de/wp-content/uploads/2026/02/IMG_7262-e1770628946645.jpeg
ORGANIZER;CN="Magnoliiayoga - Juliane Lehmann":MAILTO:juliane_lehmann@icloud.com
END:VEVENT
BEGIN:VEVENT
DTSTART;TZID=Europe/Berlin:20271215T173000
DTEND;TZID=Europe/Berlin:20271215T190000
DTSTAMP:20260422T134920
CREATED:20260209T100843Z
LAST-MODIFIED:20260209T100941Z
UID:10000892-1828891800-1828897200@mirow-erleben.de
SUMMARY:Yoga in der Hebammenpraxis Wesenberg
DESCRIPTION:Anmeldung via Telefon oder WhatsApp (017670317482)\, immer ein 10-Wochen-Kurs für 150€ buchbar.\nFolgende Yogastile werden angeboten:\nYin Yoga\, Hormonyoga\, Yoga während und nach der Schwangerschaft\, Hathayoga
URL:https://mirow-erleben.de/event/yoga-in-der-hebammenpraxis-wesenberg-2/2027-12-15/
LOCATION:Hebammenpraxis Lustig\, Am Markt 13\, Wesenberg\, Mecklenburg Vorpommern\, 17255\, Germany
CATEGORIES:Yoga
ATTACH;FMTTYPE=image/jpeg:https://mirow-erleben.de/wp-content/uploads/2026/02/IMG_7262-e1770628946645.jpeg
ORGANIZER;CN="Magnoliiayoga - Juliane Lehmann":MAILTO:juliane_lehmann@icloud.com
END:VEVENT
BEGIN:VEVENT
DTSTART;TZID=Europe/Berlin:20271216T100000
DTEND;TZID=Europe/Berlin:20271216T113000
DTSTAMP:20260422T134920
CREATED:20260209T102130Z
LAST-MODIFIED:20260209T102130Z
UID:10001714-1828951200-1828956600@mirow-erleben.de
SUMMARY:Yoga in der Hebammenpraxis Wesenberg
DESCRIPTION:Anmeldung via Telefon oder WhatsApp (017670317482)\, immer ein 10-Wochen-Kurs für 150€ buchbar.\nFolgende Yogastile werden angeboten:\nYin Yoga\, Hormonyoga\, Yoga während und nach der Schwangerschaft\, Hathayoga
URL:https://mirow-erleben.de/event/yoga-in-der-hebammenpraxis-wesenberg-4/2027-12-16/
LOCATION:Hebammenpraxis Lustig\, Am Markt 13\, Wesenberg\, Mecklenburg Vorpommern\, 17255\, Germany
CATEGORIES:Yoga
ATTACH;FMTTYPE=image/jpeg:https://mirow-erleben.de/wp-content/uploads/2026/02/IMG_7262-e1770628946645.jpeg
ORGANIZER;CN="Magnoliiayoga - Juliane Lehmann":MAILTO:juliane_lehmann@icloud.com
END:VEVENT
BEGIN:VEVENT
DTSTART;TZID=Europe/Berlin:20271221T193000
DTEND;TZID=Europe/Berlin:20271221T210000
DTSTAMP:20260422T134920
CREATED:20260209T100418Z
LAST-MODIFIED:20260209T101206Z
UID:10000375-1829417400-1829422800@mirow-erleben.de
SUMMARY:Yoga in der Hebammenpraxis Wesenberg
DESCRIPTION:Anmeldung via Telefon oder WhatsApp (017670317482)\, immer ein 10-Wochen-Kurs für 150€ buchbar.\nFolgende Yogastile werden angeboten:\nYin Yoga\, Hormonyoga\, Yoga während und nach der Schwangerschaft\, Hathayoga
URL:https://mirow-erleben.de/event/yoga-in-der-hebammenpraxis-wesenberg/2027-12-21/
LOCATION:Hebammenpraxis Lustig\, Am Markt 13\, Wesenberg\, Mecklenburg Vorpommern\, 17255\, Germany
CATEGORIES:Yoga
ATTACH;FMTTYPE=image/jpeg:https://mirow-erleben.de/wp-content/uploads/2026/02/IMG_7262-e1770628946645.jpeg
ORGANIZER;CN="Magnoliiayoga - Juliane Lehmann":MAILTO:juliane_lehmann@icloud.com
END:VEVENT
BEGIN:VEVENT
DTSTART;TZID=Europe/Berlin:20271222T173000
DTEND;TZID=Europe/Berlin:20271222T190000
DTSTAMP:20260422T134920
CREATED:20260209T100843Z
LAST-MODIFIED:20260209T100941Z
UID:10000893-1829496600-1829502000@mirow-erleben.de
SUMMARY:Yoga in der Hebammenpraxis Wesenberg
DESCRIPTION:Anmeldung via Telefon oder WhatsApp (017670317482)\, immer ein 10-Wochen-Kurs für 150€ buchbar.\nFolgende Yogastile werden angeboten:\nYin Yoga\, Hormonyoga\, Yoga während und nach der Schwangerschaft\, Hathayoga
URL:https://mirow-erleben.de/event/yoga-in-der-hebammenpraxis-wesenberg-2/2027-12-22/
LOCATION:Hebammenpraxis Lustig\, Am Markt 13\, Wesenberg\, Mecklenburg Vorpommern\, 17255\, Germany
CATEGORIES:Yoga
ATTACH;FMTTYPE=image/jpeg:https://mirow-erleben.de/wp-content/uploads/2026/02/IMG_7262-e1770628946645.jpeg
ORGANIZER;CN="Magnoliiayoga - Juliane Lehmann":MAILTO:juliane_lehmann@icloud.com
END:VEVENT
BEGIN:VEVENT
DTSTART;TZID=Europe/Berlin:20271223T100000
DTEND;TZID=Europe/Berlin:20271223T113000
DTSTAMP:20260422T134920
CREATED:20260209T102130Z
LAST-MODIFIED:20260209T102130Z
UID:10001715-1829556000-1829561400@mirow-erleben.de
SUMMARY:Yoga in der Hebammenpraxis Wesenberg
DESCRIPTION:Anmeldung via Telefon oder WhatsApp (017670317482)\, immer ein 10-Wochen-Kurs für 150€ buchbar.\nFolgende Yogastile werden angeboten:\nYin Yoga\, Hormonyoga\, Yoga während und nach der Schwangerschaft\, Hathayoga
URL:https://mirow-erleben.de/event/yoga-in-der-hebammenpraxis-wesenberg-4/2027-12-23/
LOCATION:Hebammenpraxis Lustig\, Am Markt 13\, Wesenberg\, Mecklenburg Vorpommern\, 17255\, Germany
CATEGORIES:Yoga
ATTACH;FMTTYPE=image/jpeg:https://mirow-erleben.de/wp-content/uploads/2026/02/IMG_7262-e1770628946645.jpeg
ORGANIZER;CN="Magnoliiayoga - Juliane Lehmann":MAILTO:juliane_lehmann@icloud.com
END:VEVENT
BEGIN:VEVENT
DTSTART;TZID=Europe/Berlin:20271228T193000
DTEND;TZID=Europe/Berlin:20271228T210000
DTSTAMP:20260422T134920
CREATED:20260209T100418Z
LAST-MODIFIED:20260209T101206Z
UID:10000376-1830022200-1830027600@mirow-erleben.de
SUMMARY:Yoga in der Hebammenpraxis Wesenberg
DESCRIPTION:Anmeldung via Telefon oder WhatsApp (017670317482)\, immer ein 10-Wochen-Kurs für 150€ buchbar.\nFolgende Yogastile werden angeboten:\nYin Yoga\, Hormonyoga\, Yoga während und nach der Schwangerschaft\, Hathayoga
URL:https://mirow-erleben.de/event/yoga-in-der-hebammenpraxis-wesenberg/2027-12-28/
LOCATION:Hebammenpraxis Lustig\, Am Markt 13\, Wesenberg\, Mecklenburg Vorpommern\, 17255\, Germany
CATEGORIES:Yoga
ATTACH;FMTTYPE=image/jpeg:https://mirow-erleben.de/wp-content/uploads/2026/02/IMG_7262-e1770628946645.jpeg
ORGANIZER;CN="Magnoliiayoga - Juliane Lehmann":MAILTO:juliane_lehmann@icloud.com
END:VEVENT
BEGIN:VEVENT
DTSTART;TZID=Europe/Berlin:20271229T173000
DTEND;TZID=Europe/Berlin:20271229T190000
DTSTAMP:20260422T134920
CREATED:20260209T100843Z
LAST-MODIFIED:20260209T100941Z
UID:10000894-1830101400-1830106800@mirow-erleben.de
SUMMARY:Yoga in der Hebammenpraxis Wesenberg
DESCRIPTION:Anmeldung via Telefon oder WhatsApp (017670317482)\, immer ein 10-Wochen-Kurs für 150€ buchbar.\nFolgende Yogastile werden angeboten:\nYin Yoga\, Hormonyoga\, Yoga während und nach der Schwangerschaft\, Hathayoga
URL:https://mirow-erleben.de/event/yoga-in-der-hebammenpraxis-wesenberg-2/2027-12-29/
LOCATION:Hebammenpraxis Lustig\, Am Markt 13\, Wesenberg\, Mecklenburg Vorpommern\, 17255\, Germany
CATEGORIES:Yoga
ATTACH;FMTTYPE=image/jpeg:https://mirow-erleben.de/wp-content/uploads/2026/02/IMG_7262-e1770628946645.jpeg
ORGANIZER;CN="Magnoliiayoga - Juliane Lehmann":MAILTO:juliane_lehmann@icloud.com
END:VEVENT
BEGIN:VEVENT
DTSTART;TZID=Europe/Berlin:20271230T100000
DTEND;TZID=Europe/Berlin:20271230T113000
DTSTAMP:20260422T134920
CREATED:20260209T102130Z
LAST-MODIFIED:20260209T102130Z
UID:10001716-1830160800-1830166200@mirow-erleben.de
SUMMARY:Yoga in der Hebammenpraxis Wesenberg
DESCRIPTION:Anmeldung via Telefon oder WhatsApp (017670317482)\, immer ein 10-Wochen-Kurs für 150€ buchbar.\nFolgende Yogastile werden angeboten:\nYin Yoga\, Hormonyoga\, Yoga während und nach der Schwangerschaft\, Hathayoga
URL:https://mirow-erleben.de/event/yoga-in-der-hebammenpraxis-wesenberg-4/2027-12-30/
LOCATION:Hebammenpraxis Lustig\, Am Markt 13\, Wesenberg\, Mecklenburg Vorpommern\, 17255\, Germany
CATEGORIES:Yoga
ATTACH;FMTTYPE=image/jpeg:https://mirow-erleben.de/wp-content/uploads/2026/02/IMG_7262-e1770628946645.jpeg
ORGANIZER;CN="Magnoliiayoga - Juliane Lehmann":MAILTO:juliane_lehmann@icloud.com
END:VEVENT
END:VCALENDAR